BEGIN:VCALENDAR
VERSION:2.0
PRODID:-//fbcwashpa.org - ECPv6.15.20//NONSGML v1.0//EN
CALSCALE:GREGORIAN
METHOD:PUBLISH
X-WR-CALNAME:fbcwashpa.org
X-ORIGINAL-URL:https://fbcwashpa.org
X-WR-CALDESC:Events for fbcwashpa.org
REFRESH-INTERVAL;VALUE=DURATION:PT1H
X-Robots-Tag:noindex
X-PUBLISHED-TTL:PT1H
BEGIN:VTIMEZONE
TZID:UTC
BEGIN:STANDARD
TZOFFSETFROM:+0000
TZOFFSETTO:+0000
TZNAME:UTC
DTSTART:20180101T000000
END:STANDARD
END:VTIMEZONE
BEGIN:VEVENT
DTSTART;TZID=UTC:20191020T103000
DTEND;TZID=UTC:20191020T103000
DTSTAMP:20260423T190436
CREATED:20191005T194423Z
LAST-MODIFIED:20191005T194423Z
UID:597-1571567400-1571567400@fbcwashpa.org
SUMMARY:Guest Preacher
DESCRIPTION:Guest Preacher will be Rev. Cindy Smith\, Pastor of Outreach Ministries for Full Gospel International Inc.
URL:https://fbcwashpa.org/event/guest-preacher/
END:VEVENT
BEGIN:VEVENT
DTSTART;TZID=UTC:20191016T190000
DTEND;TZID=UTC:20191016T190000
DTSTAMP:20260423T190436
CREATED:20191005T195418Z
LAST-MODIFIED:20191005T195445Z
UID:603-1571252400-1571252400@fbcwashpa.org
SUMMARY:Wed. Night Bible Study
DESCRIPTION:
URL:https://fbcwashpa.org/event/wed-night-bible-study/
END:VEVENT
BEGIN:VEVENT
DTSTART;TZID=UTC:20191016T180000
DTEND;TZID=UTC:20191016T180000
DTSTAMP:20260423T190436
CREATED:20191005T201624Z
LAST-MODIFIED:20191005T201624Z
UID:613-1571248800-1571248800@fbcwashpa.org
SUMMARY:Men's Ministry
DESCRIPTION:Every Wednesday
URL:https://fbcwashpa.org/event/mens-ministry/
END:VEVENT
BEGIN:VEVENT
DTSTART;TZID=UTC:20191015T180000
DTEND;TZID=UTC:20191015T180000
DTSTAMP:20260423T190436
CREATED:20191005T201516Z
LAST-MODIFIED:20191005T201516Z
UID:611-1571162400-1571162400@fbcwashpa.org
SUMMARY:Prayer Service
DESCRIPTION:Every Tuesday
URL:https://fbcwashpa.org/event/prayer-service-3/
END:VEVENT
BEGIN:VEVENT
DTSTART;TZID=UTC:20191013T103000
DTEND;TZID=UTC:20191013T103000
DTSTAMP:20260423T190436
CREATED:20191005T194215Z
LAST-MODIFIED:20191005T202704Z
UID:595-1570962600-1570962600@fbcwashpa.org
SUMMARY:8th Pastoral Anniversary
DESCRIPTION:Guest Preacher will be Rev. Ricky V. Burgess\, Pastor of Nazarene Baptist Church\, Pittsburgh\, PA.
URL:https://fbcwashpa.org/event/8th-pastoral-anniversary/
END:VEVENT
BEGIN:VEVENT
DTSTART;TZID=UTC:20191009T190000
DTEND;TZID=UTC:20191009T190000
DTSTAMP:20260423T190436
CREATED:20191005T193917Z
LAST-MODIFIED:20191005T193917Z
UID:593-1570647600-1570647600@fbcwashpa.org
SUMMARY:Revial
DESCRIPTION:Pastor White will be the Guest Revivalist at St. Paul Baptist Church 49 S. McKean Ave.\, Donora\, PA  The Men of Friendship Male Chorus will Minister in Song.
URL:https://fbcwashpa.org/event/revial/
END:VEVENT
BEGIN:VEVENT
DTSTART;TZID=UTC:20191009T190000
DTEND;TZID=UTC:20191009T190000
DTSTAMP:20260423T190436
CREATED:20191005T193642Z
LAST-MODIFIED:20191005T202824Z
UID:591-1570647600-1570647600@fbcwashpa.org
SUMMARY:Wednesday Night Bible Study Cancelled
DESCRIPTION:Cancelled
URL:https://fbcwashpa.org/event/wednesday-night-bible-study/
END:VEVENT
BEGIN:VEVENT
DTSTART;TZID=UTC:20191008T180000
DTEND;TZID=UTC:20191008T180000
DTSTAMP:20260423T190436
CREATED:20191005T195555Z
LAST-MODIFIED:20191005T195555Z
UID:605-1570557600-1570557600@fbcwashpa.org
SUMMARY:Prayer Service
DESCRIPTION:Every Tuesday at 6PM
URL:https://fbcwashpa.org/event/prayer-service/
END:VEVENT
BEGIN:VEVENT
DTSTART;TZID=UTC:20191006T153000
DTEND;TZID=UTC:20191006T153000
DTSTAMP:20260423T190436
CREATED:20191005T193426Z
LAST-MODIFIED:20191005T193449Z
UID:589-1570375800-1570375800@fbcwashpa.org
SUMMARY:Men of Friendship
DESCRIPTION:Male Chorus will sing at  1st Baptist Church of Clarksville\, 171 First St. Rd. 1 Clarksville\, PA  15322
URL:https://fbcwashpa.org/event/men-of-friendship-4/
END:VEVENT
BEGIN:VEVENT
DTSTART;TZID=UTC:20190928T120000
DTEND;TZID=UTC:20190928T120000
DTSTAMP:20260423T190436
CREATED:20190924T124624Z
LAST-MODIFIED:20190924T124638Z
UID:570-1569672000-1569672000@fbcwashpa.org
SUMMARY:Church Service
DESCRIPTION:Friendship Baptist Church will be having service with 1st Baptist church of Bridgeville\, PA at 17 E. Walnut St. Washington\, PA
URL:https://fbcwashpa.org/event/church-service/
END:VEVENT
BEGIN:VEVENT
DTSTART;TZID=UTC:20190926T183000
DTEND;TZID=UTC:20190926T183000
DTSTAMP:20260423T190436
CREATED:20190921T181844Z
LAST-MODIFIED:20190921T181851Z
UID:564-1569522600-1569522600@fbcwashpa.org
SUMMARY:REVIVAL
DESCRIPTION:Pastor White\, will be the Guest Revivalist at Nazareth Baptist Church 123 Lincoln Street Washington\, PA for their Fall Revival
URL:https://fbcwashpa.org/event/revival/
END:VEVENT
BEGIN:VEVENT
DTSTART;TZID=UTC:20190922T170000
DTEND;TZID=UTC:20190922T170000
DTSTAMP:20260423T190436
CREATED:20190921T181201Z
LAST-MODIFIED:20190921T181609Z
UID:560-1569171600-1569171600@fbcwashpa.org
SUMMARY:Men of Friendship
DESCRIPTION:The Men of Friendship Male Chorus will minister in song at 1st Baptist Church 541 Allen Ave. Donora\, PA
URL:https://fbcwashpa.org/event/men-of-friendship/
END:VEVENT
BEGIN:VEVENT
DTSTART;TZID=UTC:20190921T153000
DTEND;TZID=UTC:20190921T170000
DTSTAMP:20260423T190436
CREATED:20190921T181452Z
LAST-MODIFIED:20190921T181459Z
UID:562-1569079800-1569085200@fbcwashpa.org
SUMMARY:Men of Friendship
DESCRIPTION:Men of  Friendship Male Chorus will minister in song at Mr. Calvary Baptist Church 230 Reed Ave. Monessen\, PA
URL:https://fbcwashpa.org/event/men-of-friendship-2/
END:VEVENT
BEGIN:VEVENT
DTSTART;TZID=UTC:20190917T180000
DTEND;TZID=UTC:20190917T180000
DTSTAMP:20260423T190436
CREATED:20190827T230310Z
LAST-MODIFIED:20190827T230321Z
UID:474-1568743200-1568743200@fbcwashpa.org
SUMMARY:FBC BIBLE STUDY
DESCRIPTION:Saints Young & Old Meet Me in The Sanctuary.
URL:https://fbcwashpa.org/event/fbc-bible-study/
END:VEVENT
BEGIN:VEVENT
DTSTART;TZID=UTC:20190916T183000
DTEND;TZID=UTC:20190916T183000
DTSTAMP:20260423T190436
CREATED:20190827T230002Z
LAST-MODIFIED:20190827T230016Z
UID:472-1568658600-1568658600@fbcwashpa.org
SUMMARY:FBC Men's Ministry
DESCRIPTION:Men’ Young & Old Meet Me in The Sanctuary.
URL:https://fbcwashpa.org/event/fbc-mens-ministry/
END:VEVENT
BEGIN:VEVENT
DTSTART;TZID=UTC:20190915T103000
DTEND;TZID=UTC:20190915T103000
DTSTAMP:20260423T190436
CREATED:20190811T162933Z
LAST-MODIFIED:20190811T163408Z
UID:449-1568543400-1568543400@fbcwashpa.org
SUMMARY:FBC 106th Church Anniversary
DESCRIPTION:Our Guest Preacher will be Rev. Dr. William Baber\, Pastor of Friendship Baptist Church\, York\, PA along with his Choir and Congregation.  Invite a friend and former member.
URL:https://fbcwashpa.org/event/fbc-106th-church-anniversary/
END:VEVENT
BEGIN:VEVENT
DTSTART;TZID=UTC:20190910T160000
DTEND;TZID=UTC:20190912T190000
DTSTAMP:20260423T190436
CREATED:20190811T162602Z
LAST-MODIFIED:20190811T163228Z
UID:447-1568131200-1568314800@fbcwashpa.org
SUMMARY:FBC Homecoming Revival
DESCRIPTION:Our Guest Preacher will be Bishop Arthur Doctor (former Pastor of St. Paul AME Church\, Washington\, PA) with choirs nightly.  Invite a friend
URL:https://fbcwashpa.org/event/fbc-homecoming-revival/
END:VEVENT
END:VCALENDAR